Package: RCASPAR Version: 1.52.0 Command: rm -rf RCASPAR.buildbin-libdir && mkdir RCASPAR.buildbin-libdir && /Users/biocbuild/BBS/utils/build-universal.sh RCASPAR_1.52.0.tar.gz /Library/Frameworks/R.framework/Resources/bin/R RCASPAR.buildbin-libdir StartedAt: 2025-02-04 13:55:34 -0500 (Tue, 04 Feb 2025) EndedAt: 2025-02-04 13:55:44 -0500 (Tue, 04 Feb 2025) EllapsedTime: 9.7 seconds RetCode: 0 Status: OK PackageFile: RCASPAR_1.52.0.tgz PackageFileSize: 373.4 KiB