Package: RCM Version: 1.22.0 Command: /Library/Frameworks/R.framework/Resources/bin/R CMD check --install=check:RCM.install-out.txt --library=/Library/Frameworks/R.framework/Resources/library --no-vignettes --timings RCM_1.22.0.tar.gz StartedAt: 2025-02-05 06:47:42 -0500 (Wed, 05 Feb 2025) EndedAt: 2025-02-05 06:52:59 -0500 (Wed, 05 Feb 2025) EllapsedTime: 317.3 seconds RetCode: 0 Status: OK CheckDir: RCM.Rcheck Warnings: 0