Package: RCM Version: 1.22.0 Command: /Library/Frameworks/R.framework/Resources/bin/R CMD INSTALL RCM StartedAt: 2025-01-30 16:24:15 -0500 (Thu, 30 Jan 2025) EndedAt: 2025-01-30 16:25:07 -0500 (Thu, 30 Jan 2025) EllapsedTime: 51.7 seconds RetCode: 0 Status: OK