Package: RCM Version: 1.22.0 Command: rm -rf RCM.buildbin-libdir && mkdir RCM.buildbin-libdir && F:\biocbuild\bbs-3.20-bioc\R\bin\R.exe CMD INSTALL --build --library=RCM.buildbin-libdir RCM_1.22.0.tar.gz StartedAt: 2025-02-04 09:17:24 -0500 (Tue, 04 Feb 2025) EndedAt: 2025-02-04 09:18:24 -0500 (Tue, 04 Feb 2025) EllapsedTime: 60.3 seconds RetCode: 0 Status: OK PackageFile: RCM_1.22.0.zip PackageFileSize: 3.4 MiB