Package: RCM Version: 1.22.0 Command: /home/biocbuild/R/R/bin/R CMD build --keep-empty-dirs --no-resave-data RCM StartedAt: 2025-02-04 02:07:30 -0000 (Tue, 04 Feb 2025) EndedAt: 2025-02-04 02:08:43 -0000 (Tue, 04 Feb 2025) EllapsedTime: 73.1 seconds RetCode: 0 Status: OK PackageFile: RCM_1.22.0.tar.gz PackageFileSize: 3.134 MiB