Package: RCX Version: 1.10.0 Command: /Library/Frameworks/R.framework/Resources/bin/R CMD check --install=check:RCX.install-out.txt --library=/Library/Frameworks/R.framework/Resources/library --no-vignettes --timings RCX_1.10.0.tar.gz StartedAt: 2025-02-11 08:59:44 -0500 (Tue, 11 Feb 2025) EndedAt: 2025-02-11 09:01:33 -0500 (Tue, 11 Feb 2025) EllapsedTime: 108.9 seconds RetCode: 0 Status: OK CheckDir: RCX.Rcheck Warnings: 0