Package: RCX Version: 1.10.0 Command: /Library/Frameworks/R.framework/Resources/bin/R CMD INSTALL RCX StartedAt: 2025-02-10 15:09:35 -0500 (Mon, 10 Feb 2025) EndedAt: 2025-02-10 15:10:08 -0500 (Mon, 10 Feb 2025) EllapsedTime: 33.1 seconds RetCode: 0 Status: OK