Package: RCX Version: 1.10.0 Command: /home/biocbuild/bbs-3.20-bioc/R/bin/R CMD INSTALL RCX StartedAt: 2025-02-10 15:16:06 -0500 (Mon, 10 Feb 2025) EndedAt: 2025-02-10 15:16:24 -0500 (Mon, 10 Feb 2025) EllapsedTime: 18.3 seconds RetCode: 0 Status: OK