Package: RCX Version: 1.10.0 Command: rm -rf RCX.buildbin-libdir && mkdir RCX.buildbin-libdir && F:\biocbuild\bbs-3.20-bioc\R\bin\R.exe CMD INSTALL --build --library=RCX.buildbin-libdir RCX_1.10.0.tar.gz StartedAt: 2025-02-04 09:17:31 -0500 (Tue, 04 Feb 2025) EndedAt: 2025-02-04 09:19:01 -0500 (Tue, 04 Feb 2025) EllapsedTime: 90.4 seconds RetCode: 0 Status: OK PackageFile: RCX_1.10.0.zip PackageFileSize: 3.617 MiB