Package: RCX Version: 1.10.0 Command: /home/biocbuild/R/R/bin/R CMD build --keep-empty-dirs --no-resave-data RCX StartedAt: 2025-01-31 02:03:21 -0000 (Fri, 31 Jan 2025) EndedAt: 2025-01-31 02:03:51 -0000 (Fri, 31 Jan 2025) EllapsedTime: 30.0 seconds RetCode: 0 Status: OK PackageFile: RCX_1.10.0.tar.gz PackageFileSize: 4.673 MiB