Package: RCyjs Version: 2.28.0 Command: rm -rf RCyjs.buildbin-libdir && mkdir RCyjs.buildbin-libdir && /Users/biocbuild/BBS/utils/build-universal.sh RCyjs_2.28.0.tar.gz /Library/Frameworks/R.framework/Resources/bin/R RCyjs.buildbin-libdir StartedAt: 2025-02-04 13:56:14 -0500 (Tue, 04 Feb 2025) EndedAt: 2025-02-04 13:56:39 -0500 (Tue, 04 Feb 2025) EllapsedTime: 25.2 seconds RetCode: 0 Status: OK PackageFile: RCyjs_2.28.0.tgz PackageFileSize: 1.004 MiB