Package: RCyjs Version: 2.28.0 Command: /home/biocbuild/bbs-3.20-bioc/R/bin/R CMD build --keep-empty-dirs --no-resave-data --md5 RCyjs StartedAt: 2025-02-03 18:55:28 -0500 (Mon, 03 Feb 2025) EndedAt: 2025-02-03 18:55:36 -0500 (Mon, 03 Feb 2025) EllapsedTime: 8.0 seconds RetCode: 0 Status: OK PackageFile: RCyjs_2.28.0.tar.gz PackageFileSize: 1.087 MiB