Package: RCyjs Version: 2.28.0 Command: F:\biocbuild\bbs-3.20-bioc\R\bin\R.exe CMD check --no-multiarch --install=check:RCyjs.install-out.txt --library=F:\biocbuild\bbs-3.20-bioc\R\library --no-vignettes --timings RCyjs_2.28.0.tar.gz StartedAt: 2025-01-31 05:32:16 -0500 (Fri, 31 Jan 2025) EndedAt: 2025-01-31 05:33:22 -0500 (Fri, 31 Jan 2025) EllapsedTime: 65.3 seconds RetCode: 0 Status: WARNINGS CheckDir: RCyjs.Rcheck Warnings: 1