Package: RCyjs Version: 2.28.0 Command: F:\biocbuild\bbs-3.20-bioc\R\bin\R.exe CMD INSTALL RCyjs StartedAt: 2025-01-30 15:29:21 -0500 (Thu, 30 Jan 2025) EndedAt: 2025-01-30 15:30:45 -0500 (Thu, 30 Jan 2025) EllapsedTime: 84.2 seconds RetCode: 0 Status: OK