Package: RCyjs Version: 2.28.0 Command: /home/biocbuild/R/R/bin/R CMD INSTALL RCyjs StartedAt: 2025-02-10 20:15:19 -0000 (Mon, 10 Feb 2025) EndedAt: 2025-02-10 20:15:39 -0000 (Mon, 10 Feb 2025) EllapsedTime: 20.0 seconds RetCode: 0 Status: OK