Package: REDseq Version: 1.52.0 Command: rm -rf REDseq.buildbin-libdir && mkdir REDseq.buildbin-libdir && /Users/biocbuild/BBS/utils/build-universal.sh REDseq_1.52.0.tar.gz /Library/Frameworks/R.framework/Resources/bin/R REDseq.buildbin-libdir StartedAt: 2025-02-01 16:25:17 -0500 (Sat, 01 Feb 2025) EndedAt: 2025-02-01 16:26:18 -0500 (Sat, 01 Feb 2025) EllapsedTime: 60.1 seconds RetCode: 0 Status: OK PackageFile: REDseq_1.52.0.tgz PackageFileSize: 416.8 KiB