Package: REDseq Version: 1.52.0 Command: /Library/Frameworks/R.framework/Resources/bin/R CMD build --keep-empty-dirs --no-resave-data REDseq StartedAt: 2025-01-30 22:10:46 -0500 (Thu, 30 Jan 2025) EndedAt: 2025-01-30 22:13:07 -0500 (Thu, 30 Jan 2025) EllapsedTime: 140.5 seconds RetCode: 0 Status: OK PackageFile: REDseq_1.52.0.tar.gz PackageFileSize: 361.1 KiB