Package: REDseq Version: 1.52.0 Command: /Library/Frameworks/R.framework/Resources/bin/R CMD INSTALL REDseq StartedAt: 2025-01-30 16:26:20 -0500 (Thu, 30 Jan 2025) EndedAt: 2025-01-30 16:27:57 -0500 (Thu, 30 Jan 2025) EllapsedTime: 97.1 seconds RetCode: 0 Status: OK