Package: REDseq Version: 1.52.0 Command: chmod a+r REDseq -R && F:\biocbuild\bbs-3.20-bioc\R\bin\R.exe CMD build --keep-empty-dirs --no-resave-data REDseq StartedAt: 2025-01-30 21:20:22 -0500 (Thu, 30 Jan 2025) EndedAt: 2025-01-30 21:22:01 -0500 (Thu, 30 Jan 2025) EllapsedTime: 99.2 seconds RetCode: 0 Status: OK PackageFile: REDseq_1.52.0.tar.gz PackageFileSize: 157.2 KiB