Package: REDseq Version: 1.52.0 Command: /home/biocbuild/R/R/bin/R CMD build --keep-empty-dirs --no-resave-data REDseq StartedAt: 2025-02-04 02:10:30 -0000 (Tue, 04 Feb 2025) EndedAt: 2025-02-04 02:11:47 -0000 (Tue, 04 Feb 2025) EllapsedTime: 77.1 seconds RetCode: 0 Status: OK PackageFile: REDseq_1.52.0.tar.gz PackageFileSize: 351.3 KiB