Package: REMP Version: 1.30.0 Command: rm -rf REMP.buildbin-libdir && mkdir REMP.buildbin-libdir && /Users/biocbuild/BBS/utils/build-universal.sh REMP_1.30.0.tar.gz /Library/Frameworks/R.framework/Resources/bin/R REMP.buildbin-libdir StartedAt: 2025-02-05 17:21:57 -0500 (Wed, 05 Feb 2025) EndedAt: 2025-02-05 17:23:07 -0500 (Wed, 05 Feb 2025) EllapsedTime: 70.4 seconds RetCode: 0 Status: OK PackageFile: REMP_1.30.0.tgz PackageFileSize: 691.1 KiB