Package: REMP Version: 1.30.0 Command: /Library/Frameworks/R.framework/Resources/bin/R CMD INSTALL REMP StartedAt: 2025-02-03 17:59:31 -0500 (Mon, 03 Feb 2025) EndedAt: 2025-02-03 18:00:35 -0500 (Mon, 03 Feb 2025) EllapsedTime: 64.2 seconds RetCode: 0 Status: OK