Package: REMP Version: 1.30.0 Command: /Library/Frameworks/R.framework/Resources/bin/R CMD build --keep-empty-dirs --no-resave-data REMP StartedAt: 2025-01-30 22:12:06 -0500 (Thu, 30 Jan 2025) EndedAt: 2025-01-30 22:15:57 -0500 (Thu, 30 Jan 2025) EllapsedTime: 230.9 seconds RetCode: 0 Status: OK PackageFile: REMP_1.30.0.tar.gz PackageFileSize: 190.8 KiB