Package: REMP Version: 1.30.0 Command: rm -rf REMP.buildbin-libdir && mkdir REMP.buildbin-libdir && F:\biocbuild\bbs-3.20-bioc\R\bin\R.exe CMD INSTALL --build --library=REMP.buildbin-libdir REMP_1.30.0.tar.gz StartedAt: 2025-02-04 09:19:14 -0500 (Tue, 04 Feb 2025) EndedAt: 2025-02-04 09:20:34 -0500 (Tue, 04 Feb 2025) EllapsedTime: 80.5 seconds RetCode: 0 Status: OK PackageFile: REMP_1.30.0.zip PackageFileSize: 693.4 KiB