Package: REMP Version: 1.30.0 Command: chmod a+r REMP -R && F:\biocbuild\bbs-3.20-bioc\R\bin\R.exe CMD build --keep-empty-dirs --no-resave-data REMP StartedAt: 2025-02-03 21:37:33 -0500 (Mon, 03 Feb 2025) EndedAt: 2025-02-03 21:40:04 -0500 (Mon, 03 Feb 2025) EllapsedTime: 150.9 seconds RetCode: 0 Status: OK PackageFile: REMP_1.30.0.tar.gz PackageFileSize: 191.5 KiB