Package: REMP Version: 1.30.0 Command: F:\biocbuild\bbs-3.20-bioc\R\bin\R.exe CMD INSTALL REMP StartedAt: 2025-01-30 16:51:01 -0500 (Thu, 30 Jan 2025) EndedAt: 2025-01-30 16:52:20 -0500 (Thu, 30 Jan 2025) EllapsedTime: 79.0 seconds RetCode: 0 Status: OK