Package: REMP Version: 1.30.0 Command: /home/biocbuild/R/R/bin/R CMD build --keep-empty-dirs --no-resave-data REMP StartedAt: 2025-02-04 02:12:25 -0000 (Tue, 04 Feb 2025) EndedAt: 2025-02-04 02:15:26 -0000 (Tue, 04 Feb 2025) EllapsedTime: 181.2 seconds RetCode: 1 Status: ERROR PackageFile: None PackageFileSize: NA