Package: REMP Version: 1.30.0 Command: /home/biocbuild/R/R/bin/R CMD INSTALL REMP StartedAt: 2025-02-03 21:19:59 -0000 (Mon, 03 Feb 2025) EndedAt: 2025-02-03 21:21:09 -0000 (Mon, 03 Feb 2025) EllapsedTime: 70.5 seconds RetCode: 0 Status: OK