Package: RESOLVE Version: 1.8.0 Command: rm -rf RESOLVE.buildbin-libdir && mkdir RESOLVE.buildbin-libdir && F:\biocbuild\bbs-3.20-bioc\R\bin\R.exe CMD INSTALL --build --library=RESOLVE.buildbin-libdir RESOLVE_1.8.0.tar.gz StartedAt: 2025-01-31 09:25:38 -0500 (Fri, 31 Jan 2025) EndedAt: 2025-01-31 09:26:29 -0500 (Fri, 31 Jan 2025) EllapsedTime: 51.1 seconds RetCode: 0 Status: OK PackageFile: RESOLVE_1.8.0.zip PackageFileSize: 874.8 KiB