Package: RESOLVE Version: 1.8.0 Command: chmod a+r RESOLVE -R && F:\biocbuild\bbs-3.20-bioc\R\bin\R.exe CMD build --keep-empty-dirs --no-resave-data RESOLVE StartedAt: 2025-01-30 21:22:26 -0500 (Thu, 30 Jan 2025) EndedAt: 2025-01-30 21:23:41 -0500 (Thu, 30 Jan 2025) EllapsedTime: 75.3 seconds RetCode: 0 Status: OK PackageFile: RESOLVE_1.8.0.tar.gz PackageFileSize: 717.6 KiB