Package: RESOLVE Version: 1.8.0 Command: /home/biocbuild/R/R/bin/R CMD check --install=check:RESOLVE.install-out.txt --library=/home/biocbuild/R/R/site-library --no-vignettes --timings RESOLVE_1.8.0.tar.gz StartedAt: 2025-01-31 09:38:03 -0000 (Fri, 31 Jan 2025) EndedAt: 2025-01-31 09:52:43 -0000 (Fri, 31 Jan 2025) EllapsedTime: 880.8 seconds RetCode: 0 Status: OK CheckDir: RESOLVE.Rcheck Warnings: 0