Package: RGraph2js Version: 1.34.0 Command: rm -rf RGraph2js.buildbin-libdir && mkdir RGraph2js.buildbin-libdir && /Users/biocbuild/BBS/utils/build-universal.sh RGraph2js_1.34.0.tar.gz /Library/Frameworks/R.framework/Resources/bin/R RGraph2js.buildbin-libdir StartedAt: 2025-02-12 16:37:28 -0500 (Wed, 12 Feb 2025) EndedAt: 2025-02-12 16:37:34 -0500 (Wed, 12 Feb 2025) EllapsedTime: 5.7 seconds RetCode: 0 Status: OK PackageFile: RGraph2js_1.34.0.tgz PackageFileSize: 1.495 MiB