Package: RGraph2js Version: 1.34.0 Command: /Library/Frameworks/R.framework/Resources/bin/R CMD check --install=check:RGraph2js.install-out.txt --library=/Library/Frameworks/R.framework/Resources/library --no-vignettes --timings RGraph2js_1.34.0.tar.gz StartedAt: 2025-02-12 06:45:07 -0500 (Wed, 12 Feb 2025) EndedAt: 2025-02-12 06:45:41 -0500 (Wed, 12 Feb 2025) EllapsedTime: 33.9 seconds RetCode: 0 Status: OK CheckDir: RGraph2js.Rcheck Warnings: 0