############################################################################## ############################################################################## ### ### Running command: ### ### rm -rf RGraph2js.buildbin-libdir && mkdir RGraph2js.buildbin-libdir && /Users/biocbuild/BBS/utils/build-universal.sh RGraph2js_1.34.0.tar.gz /Library/Frameworks/R.framework/Resources/bin/R RGraph2js.buildbin-libdir ### ############################################################################## ############################################################################## >>>>>>> >>>>>>> INSTALLATION WITH 'R CMD INSTALL --preclean --no-multiarch --library=RGraph2js.buildbin-libdir RGraph2js_1.34.0.tar.gz' >>>>>>> * installing *source* package ‘RGraph2js’ ... ** using staged installation ** R ** inst ** byte-compile and prepare package for lazy loading ** help *** installing help indices ** building package indices ** installing vignettes ** testing if installed package can be loaded from temporary location ** testing if installed package can be loaded from final location Error in file(con, "w") : cannot open the connection * removing ‘/Users/biocbuild/bbs-3.20-bioc/meat/RGraph2js.buildbin-libdir/RGraph2js’