Package: RGraph2js Version: 1.34.0 Command: rm -rf RGraph2js.buildbin-libdir && mkdir RGraph2js.buildbin-libdir && /Users/biocbuild/BBS/utils/build-universal.sh RGraph2js_1.34.0.tar.gz /Library/Frameworks/R.framework/Resources/bin/R RGraph2js.buildbin-libdir StartedAt: 2025-02-04 13:59:35 -0500 (Tue, 04 Feb 2025) EndedAt: 2025-02-04 13:59:46 -0500 (Tue, 04 Feb 2025) EllapsedTime: 11.5 seconds RetCode: 1 Status: ERROR PackageFile: None PackageFileSize: NA