Package: RGraph2js Version: 1.34.0 Command: /home/biocbuild/bbs-3.20-bioc/R/bin/R CMD check --install=check:RGraph2js.install-out.txt --library=/home/biocbuild/bbs-3.20-bioc/R/site-library --timings RGraph2js_1.34.0.tar.gz StartedAt: 2025-02-04 01:46:22 -0500 (Tue, 04 Feb 2025) EndedAt: 2025-02-04 01:46:52 -0500 (Tue, 04 Feb 2025) EllapsedTime: 30.0 seconds RetCode: 0 Status: OK CheckDir: RGraph2js.Rcheck Warnings: 0