Package: RITAN Version: 1.30.0 Command: rm -rf RITAN.buildbin-libdir && mkdir RITAN.buildbin-libdir && /Users/biocbuild/BBS/utils/build-universal.sh RITAN_1.30.0.tar.gz /Library/Frameworks/R.framework/Resources/bin/R RITAN.buildbin-libdir StartedAt: 2025-02-05 17:28:08 -0500 (Wed, 05 Feb 2025) EndedAt: 2025-02-05 17:29:04 -0500 (Wed, 05 Feb 2025) EllapsedTime: 55.6 seconds RetCode: 0 Status: OK PackageFile: RITAN_1.30.0.tgz PackageFileSize: 971.8 KiB