Package: RITAN Version: 1.30.0 Command: /Library/Frameworks/R.framework/Resources/bin/R CMD check --install=check:RITAN.install-out.txt --library=/Library/Frameworks/R.framework/Resources/library --no-vignettes --timings RITAN_1.30.0.tar.gz StartedAt: 2025-01-31 09:01:10 -0500 (Fri, 31 Jan 2025) EndedAt: 2025-01-31 09:11:00 -0500 (Fri, 31 Jan 2025) EllapsedTime: 589.8 seconds RetCode: 0 Status: WARNINGS CheckDir: RITAN.Rcheck Warnings: 1