Package: RIVER Version: 1.30.0 Command: rm -rf RIVER.buildbin-libdir && mkdir RIVER.buildbin-libdir && /Users/biocbuild/BBS/utils/build-universal.sh RIVER_1.30.0.tar.gz /Library/Frameworks/R.framework/Resources/bin/R RIVER.buildbin-libdir StartedAt: 2025-02-05 17:28:39 -0500 (Wed, 05 Feb 2025) EndedAt: 2025-02-05 17:28:50 -0500 (Wed, 05 Feb 2025) EllapsedTime: 11.4 seconds RetCode: 0 Status: OK PackageFile: RIVER_1.30.0.tgz PackageFileSize: 1.504 MiB