Package: RIVER Version: 1.30.0 Command: /Library/Frameworks/R.framework/Resources/bin/R CMD check --install=check:RIVER.install-out.txt --library=/Library/Frameworks/R.framework/Resources/library --no-vignettes --timings RIVER_1.30.0.tar.gz StartedAt: 2025-02-05 07:44:57 -0500 (Wed, 05 Feb 2025) EndedAt: 2025-02-05 07:46:36 -0500 (Wed, 05 Feb 2025) EllapsedTime: 98.2 seconds RetCode: 0 Status: OK CheckDir: RIVER.Rcheck Warnings: 0