Package: RIVER Version: 1.30.0 Command: /Library/Frameworks/R.framework/Resources/bin/R CMD build --keep-empty-dirs --no-resave-data RIVER StartedAt: 2025-02-03 21:44:27 -0500 (Mon, 03 Feb 2025) EndedAt: 2025-02-03 21:45:13 -0500 (Mon, 03 Feb 2025) EllapsedTime: 45.4 seconds RetCode: 0 Status: OK PackageFile: RIVER_1.30.0.tar.gz PackageFileSize: 1.471 MiB