Package: RIVER Version: 1.30.0 Command: /Library/Frameworks/R.framework/Resources/bin/R CMD check --install=check:RIVER.install-out.txt --library=/Library/Frameworks/R.framework/Resources/library --no-vignettes --timings RIVER_1.30.0.tar.gz StartedAt: 2025-02-04 09:01:15 -0500 (Tue, 04 Feb 2025) EndedAt: 2025-02-04 09:04:07 -0500 (Tue, 04 Feb 2025) EllapsedTime: 172.3 seconds RetCode: 0 Status: OK CheckDir: RIVER.Rcheck Warnings: 0