Package: RIVER Version: 1.30.0 Command: /home/biocbuild/bbs-3.20-bioc/R/bin/R CMD check --install=check:RIVER.install-out.txt --library=/home/biocbuild/bbs-3.20-bioc/R/site-library --timings RIVER_1.30.0.tar.gz StartedAt: 2025-02-11 01:40:34 -0500 (Tue, 11 Feb 2025) EndedAt: 2025-02-11 01:42:01 -0500 (Tue, 11 Feb 2025) EllapsedTime: 86.1 seconds RetCode: 0 Status: OK CheckDir: RIVER.Rcheck Warnings: 0