Package: RIVER Version: 1.30.0 Command: /home/biocbuild/bbs-3.20-bioc/R/bin/R CMD INSTALL RIVER StartedAt: 2025-02-10 15:49:42 -0500 (Mon, 10 Feb 2025) EndedAt: 2025-02-10 15:49:49 -0500 (Mon, 10 Feb 2025) EllapsedTime: 7.3 seconds RetCode: 0 Status: OK