Package: RJMCMCNucleosomes Version: 1.30.0 Command: /Library/Frameworks/R.framework/Resources/bin/R CMD INSTALL RJMCMCNucleosomes StartedAt: 2025-02-03 16:00:21 -0500 (Mon, 03 Feb 2025) EndedAt: 2025-02-03 16:01:10 -0500 (Mon, 03 Feb 2025) EllapsedTime: 49.2 seconds RetCode: 0 Status: OK