Package: RJMCMCNucleosomes Version: 1.30.0 Command: /Library/Frameworks/R.framework/Resources/bin/R CMD build --keep-empty-dirs --no-resave-data RJMCMCNucleosomes StartedAt: 2025-02-03 21:44:32 -0500 (Mon, 03 Feb 2025) EndedAt: 2025-02-03 21:47:07 -0500 (Mon, 03 Feb 2025) EllapsedTime: 154.8 seconds RetCode: 0 Status: OK PackageFile: RJMCMCNucleosomes_1.30.0.tar.gz PackageFileSize: 721.6 KiB