Package: RJMCMCNucleosomes Version: 1.30.0 Command: /home/biocbuild/bbs-3.20-bioc/R/bin/R CMD check --install=check:RJMCMCNucleosomes.install-out.txt --library=/home/biocbuild/bbs-3.20-bioc/R/site-library --timings RJMCMCNucleosomes_1.30.0.tar.gz StartedAt: 2025-02-04 01:50:09 -0500 (Tue, 04 Feb 2025) EndedAt: 2025-02-04 01:54:29 -0500 (Tue, 04 Feb 2025) EllapsedTime: 259.3 seconds RetCode: 0 Status: OK CheckDir: RJMCMCNucleosomes.Rcheck Warnings: 0