Package: RJMCMCNucleosomes Version: 1.30.0 Command: F:\biocbuild\bbs-3.20-bioc\R\bin\R.exe CMD check --no-multiarch --install=check:RJMCMCNucleosomes.install-out.txt --library=F:\biocbuild\bbs-3.20-bioc\R\library --no-vignettes --timings RJMCMCNucleosomes_1.30.0.tar.gz StartedAt: 2025-02-04 05:34:45 -0500 (Tue, 04 Feb 2025) EndedAt: 2025-02-04 05:40:12 -0500 (Tue, 04 Feb 2025) EllapsedTime: 326.8 seconds RetCode: 0 Status: OK CheckDir: RJMCMCNucleosomes.Rcheck Warnings: 0