Package: RJMCMCNucleosomes Version: 1.30.0 Command: /home/biocbuild/R/R/bin/R CMD INSTALL RJMCMCNucleosomes StartedAt: 2025-02-03 20:41:49 -0000 (Mon, 03 Feb 2025) EndedAt: 2025-02-03 20:42:47 -0000 (Mon, 03 Feb 2025) EllapsedTime: 58.0 seconds RetCode: 0 Status: OK