Package: RLMM Version: 1.68.0 Command: /Library/Frameworks/R.framework/Resources/bin/R CMD build --keep-empty-dirs --no-resave-data RLMM StartedAt: 2025-02-04 06:46:30 -0500 (Tue, 04 Feb 2025) EndedAt: 2025-02-04 06:46:43 -0500 (Tue, 04 Feb 2025) EllapsedTime: 12.5 seconds RetCode: 0 Status: OK PackageFile: RLMM_1.68.0.tar.gz PackageFileSize: 419.4 KiB